BEGIN:VCALENDAR
VERSION:2.0
PRODID:-//ICMICA - MIIC - Pax Romana - ECPv6.2.6//NONSGML v1.0//EN
CALSCALE:GREGORIAN
METHOD:PUBLISH
X-ORIGINAL-URL:http://www.icmica-miic.org
X-WR-CALDESC:Events for ICMICA - MIIC - Pax Romana
REFRESH-INTERVAL;VALUE=DURATION:PT1H
X-Robots-Tag:noindex
X-PUBLISHED-TTL:PT1H
BEGIN:VTIMEZONE
TZID:Europe/Paris
BEGIN:DAYLIGHT
TZOFFSETFROM:+0100
TZOFFSETTO:+0200
TZNAME:CEST
DTSTART:20210328T010000
END:DAYLIGHT
BEGIN:STANDARD
TZOFFSETFROM:+0200
TZOFFSETTO:+0100
TZNAME:CET
DTSTART:20211031T010000
END:STANDARD
END:VTIMEZONE
BEGIN:VEVENT
DTSTART;TZID=Europe/Paris:20210327T150000
DTEND;TZID=Europe/Paris:20210327T170000
DTSTAMP:20260423T173548
CREATED:20210319T200010Z
LAST-MODIFIED:20210319T201338Z
UID:13997-1616857200-1616864400@www.icmica-miic.org
SUMMARY:Palm Sunday Celebration
DESCRIPTION:Join IMCS and ICMICA for an online Palm Sunday Celebration on Saturday\, March 27th \n\n22:00 Hong Kong\n17:00 Nairobi\n15:00 Paris\n14:00 UTC\n10:000 New York \n09:00 Lima\n\nREGISTER online at: \nhttps://zoom.us/meeting/register/tJUtd-mtrjwqG9GarE6M8nGT_3KqbnADk4dh
URL:http://www.icmica-miic.org/event/13997/
LOCATION:Online
CATEGORIES:Event
ATTACH;FMTTYPE=image/png:http://www.icmica-miic.org/wp-content/uploads/2021/03/Domingo-de-Ramos-Palm-Sunday-Dimanche-des-Rameaux.png
END:VEVENT
END:VCALENDAR